BEGIN:VCALENDAR
VERSION:2.0
PRODID:-//HeDA - ECPv6.15.12.2//NONSGML v1.0//EN
CALSCALE:GREGORIAN
METHOD:PUBLISH
X-WR-CALNAME:HeDA
X-ORIGINAL-URL:https://www.heda.com.gr
X-WR-CALDESC:Events for HeDA
REFRESH-INTERVAL;VALUE=DURATION:PT1H
X-Robots-Tag:noindex
X-PUBLISHED-TTL:PT1H
BEGIN:VTIMEZONE
TZID:UTC
BEGIN:STANDARD
TZOFFSETFROM:+0000
TZOFFSETTO:+0000
TZNAME:UTC
DTSTART:20210101T000000
END:STANDARD
END:VTIMEZONE
BEGIN:VEVENT
DTSTART;TZID=UTC:20221215T193000
DTEND;TZID=UTC:20221215T223000
DTSTAMP:20260421T134251
CREATED:20221122T155840Z
LAST-MODIFIED:20230227T205816Z
UID:10000001-1671132600-1671143400@www.heda.com.gr
SUMMARY:Jingle & Mingle 2022
DESCRIPTION:The President and the Board of Directors of \nthe Hellenic-Dutch Association \nhave the pleasure of inviting you to join us \nfor our annual end of the year Christmas party on \nThursday\, 15 December 2022 from 19:30 – 22:30  \nat Palia Agora Filothei  \n  \nMinister of Labour and Social Affairs Mr. Kostis Hatzidakis and \nthe Ambassador of the Kingdom of the Netherlands Mrs. Susanna Terstal will honor us with their presence. \nDon’t miss a unique Jingle and Mingle party with music\, drinks & finger food! \nPlease confirm your attendance by 30 November
URL:https://www.heda.com.gr/event/jingle-mingle-2022/
LOCATION:Palia Agora Filothei\, Kehagia 26\, Filothei\, Athens\, Attica\, 15237\, Greece
CATEGORIES:Social Events
ATTACH;FMTTYPE=image/png:https://www.heda.com.gr/wp-content/uploads/2023/01/Εικόνα1-1_cleanup.png
END:VEVENT
BEGIN:VEVENT
DTSTART;TZID=UTC:20220630T200000
DTEND;TZID=UTC:20220630T230000
DTSTAMP:20260421T134251
CREATED:20230315T072421Z
LAST-MODIFIED:20230315T072631Z
UID:10000005-1656619200-1656630000@www.heda.com.gr
SUMMARY:Summer Soiree 2022
DESCRIPTION:Summer Soiree party! \nAgainst the backdrop of a highly festive ambiance HeDA friends and members were happy to see each other\, two years after their last physical meeting\, to welcome the newly elected BoD and its new President Yiannis Kantoros. \nMembers and friends who gathered at the lovely garden of Balthazar thoroughly enjoyed the atmosphere and the music while savoring delicious finger food and sipping refreshing drinks\, exchanging ideas and discussing ways to work closer together and also getting to know the new members. \nHeDA wishes you all a relaxing summer – stay healthy and safe. \nSummer Soiree! \nΣε εξαιρετικά καλοκαιρινό κλίμα\, με την παρουσία των μελών και φίλων του Ελληνο-Ολλανδικού Εμπορικού και Βιομηχανικού Συνδέσμου\, πραγματοποιήθηκε\, έπειτα από δύο χρόνια αποχής\, εκδήλωση για το καλωσόρισμα του νέου Προέδρου Γιάννη Καντώρου και των μελών του Διοικητικού Συμβουλίου. \nΣτον καλοκαιρινό κήπο του Balthazar\, μέλη και φίλοι του Συνδέσμου είχαν την ευκαιρία να ξαναβρεθούν σε μια ευχάριστη χαλαρή ατμόσφαιρα με μουσική\, finger food και ποτά\, να ανταλλάξουν ιδέες\, να συζητήσουν σχετικά με πιθανούς τρόπους συνεργασίας και να γνωρίσουν τα νέα μέλη. \nΟ HeDA εύχεται σε όλους ένα ξεκούραστο καλοκαίρι με υγεία και ασφάλεια.
URL:https://www.heda.com.gr/event/summer-soiree-2022/
CATEGORIES:Social Events
ATTACH;FMTTYPE=image/jpeg:https://www.heda.com.gr/wp-content/uploads/2023/03/INVITATION.jpg
END:VEVENT
END:VCALENDAR