BEGIN:VCALENDAR
VERSION:2.0
PRODID:-//HeDA - ECPv6.15.12.2//NONSGML v1.0//EN
CALSCALE:GREGORIAN
METHOD:PUBLISH
X-WR-CALNAME:HeDA
X-ORIGINAL-URL:https://www.heda.com.gr
X-WR-CALDESC:Events for HeDA
REFRESH-INTERVAL;VALUE=DURATION:PT1H
X-Robots-Tag:noindex
X-PUBLISHED-TTL:PT1H
BEGIN:VTIMEZONE
TZID:UTC
BEGIN:STANDARD
TZOFFSETFROM:+0000
TZOFFSETTO:+0000
TZNAME:UTC
DTSTART:20250101T000000
END:STANDARD
END:VTIMEZONE
BEGIN:VEVENT
DTSTART;VALUE=DATE:20260203
DTEND;VALUE=DATE:20260204
DTSTAMP:20260421T180907
CREATED:20260127T143700Z
LAST-MODIFIED:20260127T143700Z
UID:10000020-1770076800-1770163199@www.heda.com.gr
SUMMARY:UNLOCKING AI LITERACY FOR MEANINGFUL BUSINESS IMPACT
DESCRIPTION:ΔΗΛΩΣΕ ΣΥΜΜΕΤΟΧΗ\nΗ τεχνητή νοημοσύνη δεν είναι πλέον το μέλλον. Είναι το παρόν. \nΗ HeDA εγκαινιάζει το AI Committee και σας προσκαλεί στο πρώτο του event\, σηματοδοτώντας τη μετάβαση σε μια νέα εποχή γνώσης\, τεχνολογίας και ανθρώπινης σκέψης. \nΣτόχος της εκδήλωσης είναι να ενισχύσει το AI literacy και να ανοίξει έναν ουσιαστικό διάλογο γύρω από τον ρόλο της τεχνητής νοημοσύνης στον σύγχρονο οργανισμό και την κοινωνία. \n  \nΚατά τη διάρκεια της εκδήλωσης θα παρουσιαστούν και θα συζητηθούν εφαρμογές της τεχνητής νοημοσύνης σε κρίσιμους τομείς\, όπως: \n\nAI revolution in European healthcare \nAI Foundations & Large Language Models \nAgentic AI & Enterprise AI Adoption \nAI & Digital Growth (SEO\, Marketing) \nAI σε Επιχειρησιακούς Κλάδους \n\n\n\nAviation\nBanking\nInsurance\n\n\n\nAI & Regulation \n\n\n\nEU AI Act\nΝομικές και κανονιστικές προκλήσεις\nΕυκαιρίες συμμόρφωσης και καινοτομίας\n\n\n\nΔείτε την Agenda \nPlease wait while flipbook is loading. For more related info\, FAQs and issues please refer to DearFlip WordPress Flipbook Plugin Help documentation. \n  \nΔΗΛΩΣΕ ΣΥΜΜΕΤΟΧΗ
URL:https://www.heda.com.gr/event/unlocking-ai-literacy-for-meaningful-business-impact/
CATEGORIES:Corporate Events
ATTACH;FMTTYPE=image/jpeg:https://www.heda.com.gr/wp-content/uploads/2026/01/HED-49-1080x1080-1.jpg
END:VEVENT
BEGIN:VEVENT
DTSTART;VALUE=DATE:20260319
DTEND;VALUE=DATE:20260320
DTSTAMP:20260421T180907
CREATED:20260312T150201Z
LAST-MODIFIED:20260312T150251Z
UID:10000021-1773878400-1773964799@www.heda.com.gr
SUMMARY:Water in Crisis: Challenges & Solutions for a Sustainable Future
DESCRIPTION:Organized by the Sustainability Committee of the Hellenic–Dutch Association (HEDA) under the auspices of the Embassy of the Netherlands in Greece\, this event will explore key challenges and solutions for sustainable water management. \nThursday\, 19 March  2026| 10:00 a.m. | Vasilis & Eliza Goulandris Foundation Auditorium. 💧🌍
URL:https://www.heda.com.gr/event/water-in-crisis-challenges-solutions-for-a-sustainable-future/
CATEGORIES:Corporate Events
ATTACH;FMTTYPE=image/png:https://www.heda.com.gr/wp-content/uploads/2026/03/event-program-2_en.png
END:VEVENT
END:VCALENDAR