BEGIN:VCALENDAR
VERSION:2.0
PRODID:-//HeDA - ECPv6.15.12.2//NONSGML v1.0//EN
CALSCALE:GREGORIAN
METHOD:PUBLISH
X-ORIGINAL-URL:https://www.heda.com.gr
X-WR-CALDESC:Events for HeDA
REFRESH-INTERVAL;VALUE=DURATION:PT1H
X-Robots-Tag:noindex
X-PUBLISHED-TTL:PT1H
BEGIN:VTIMEZONE
TZID:UTC
BEGIN:STANDARD
TZOFFSETFROM:+0000
TZOFFSETTO:+0000
TZNAME:UTC
DTSTART:20240101T000000
END:STANDARD
END:VTIMEZONE
BEGIN:VEVENT
DTSTART;VALUE=DATE:20250425
DTEND;VALUE=DATE:20250426
DTSTAMP:20260421T222122
CREATED:20250311T153121Z
LAST-MODIFIED:20250311T183440Z
UID:10000018-1745539200-1745625599@www.heda.com.gr
SUMMARY:Greek Exports Forum & Awards 2025
DESCRIPTION:Τα Greek Exports Forum & Awards\, τα βραβεία θεσμός των Ελλήνων εξαγωγέων\, επιστρέφουν ανανεωμένα για 13η χρονιά με στόχο να αναδείξουν τους κορυφαίους του κλάδου!
URL:https://www.heda.com.gr/event/greek-exports-forum-awards-2025/
CATEGORIES:Corporate Events
ATTACH;FMTTYPE=image/png:https://www.heda.com.gr/wp-content/uploads/2025/03/GEFA25_300X250-1-FRAME-.png
END:VEVENT
END:VCALENDAR