BEGIN:VCALENDAR
VERSION:2.0
PRODID:-//HeDA - ECPv6.15.12.2//NONSGML v1.0//EN
CALSCALE:GREGORIAN
METHOD:PUBLISH
X-WR-CALNAME:HeDA
X-ORIGINAL-URL:https://www.heda.com.gr
X-WR-CALDESC:Events for HeDA
REFRESH-INTERVAL;VALUE=DURATION:PT1H
X-Robots-Tag:noindex
X-PUBLISHED-TTL:PT1H
BEGIN:VTIMEZONE
TZID:UTC
BEGIN:STANDARD
TZOFFSETFROM:+0000
TZOFFSETTO:+0000
TZNAME:UTC
DTSTART:20240101T000000
END:STANDARD
END:VTIMEZONE
BEGIN:VEVENT
DTSTART;VALUE=DATE:20250222
DTEND;VALUE=DATE:20250223
DTSTAMP:20260422T011748
CREATED:20250305T072056Z
LAST-MODIFIED:20250305T072056Z
UID:10000016-1740182400-1740268799@www.heda.com.gr
SUMMARY:OPEN TALKS: Sustainability in Farming
DESCRIPTION:Λαμία\, Σάββατο 22 Φεβρουαρίου 2025 \nΣτην καρδιά της Ελλάδας\, στη Λαμία\, μια κρίσιμη συζήτηση έλαβε χώρα με θέμα την προσαρμογή της γεωργικής παραγωγής στις σύγχρονες περιβαλλοντικές προκλήσεις. Αγρότες\, επαγγελματίες και εκπρόσωποι των θεσμών\, συναντήθηκαν για να αναλύσουν τις επιπτώσεις της κλιματικής αλλαγής και να χαράξουν τη στρατηγική του αύριο. \nΒασικά ζητήματα και καίριες τοποθετήσεις \nΣτην ημερίδα\, φιλοξενήθηκαν διακεκριμένοι ομιλητές από διαφορετικούς κλάδους\, που ανέδειξαν τις προκλήσεις αλλά και τις λύσεις που διαμορφώνουν το μέλλον της αγροτικής βιωσιμότητας: \n\nΑλεξία Μαχαίρα (Υπεύθυνη Βιωσιμότητας\, ΑΒ Βασιλόπουλος): “Κλιματικός νόμος και απαιτήσεις σχετικά με την κλιματική αλλαγή”\nΛεωνίδας Παπαχαρίσης (Υπεύθυνος Ποιοτικού Ελέγχου\, ΑΒ Βασιλόπουλος): “Τι είναι η Αγρο-διασφάλιση και γιατί είναι σημαντική”\nFairplants : Παρουσίαση του ολλανδικού παραδείγματος (διαδικτυακά)\nΗλίας Καλφάς (Αμερικανική Γεωργική Σχολή): “Αναγεννητική γεωργία”\nΑλέξανδρος Μουλόπουλος (WWF Ελλάς): “Οι προκλήσεις της κλιματικής αλλαγής”\nΚώστας Βαμβακάς (VK Premium): Παρουσίαση χρηματοδοτικών σχημάτων\nΠάνος Τουρναβίτης (Συνεταιριστική Τράπεζα Καρδίτσας)\nΧρήστος Αποστολόπουλος (Friesland Campina)\nΛευτέρης Τουρναβίτης\, Ελληνική Αναπτυξιακή Τράπεζα
URL:https://www.heda.com.gr/event/open-talks-sustainability-in-farming/
CATEGORIES:Corporate Events
ATTACH;FMTTYPE=image/jpeg:https://www.heda.com.gr/wp-content/uploads/2024/03/banner1-2-1.jpg
END:VEVENT
END:VCALENDAR